BEGIN:VCALENDAR
VERSION:2.0
PRODID:icalendar-ruby
CALSCALE:GREGORIAN
METHOD:PUBLISH
BEGIN:VEVENT
DTSTAMP:20260421T202159Z
UID:5-393028@insatiablechurch.tithelysetup5.com
DTSTART:20261025T150000Z
DTEND:20261025T160000Z
CLASS:PUBLIC
CREATED:20260421T144321
DESCRIPTION:Sunday Worship
LAST-MODIFIED:20260421T144321
LOCATION:
SUMMARY:Sunday Worship
URL;VALUE=URI:https://insatiablechurch.tithelysetup5.com/events/sunday-wors
 hip/2026-10-25
END:VEVENT
END:VCALENDAR
