BEGIN:VCALENDAR
VERSION:2.0
PRODID:icalendar-ruby
CALSCALE:GREGORIAN
METHOD:PUBLISH
BEGIN:VEVENT
DTSTAMP:20260421T220557Z
UID:5-393029@insatiablechurch.tithelysetup5.com
DTSTART:20261101T160000Z
DTEND:20261101T170000Z
CLASS:PUBLIC
CREATED:20260421T144321
DESCRIPTION:Sunday Worship
LAST-MODIFIED:20260421T144321
LOCATION:
SUMMARY:Sunday Worship
URL;VALUE=URI:https://insatiablechurch.tithelysetup5.com/events/sunday-wors
 hip/2026-11-01
END:VEVENT
END:VCALENDAR
